BEGIN:VCALENDAR
VERSION:2.0
PRODID:icalendar-ruby
CALSCALE:GREGORIAN
METHOD:PUBLISH
BEGIN:VEVENT
DTSTAMP:20260419T133954Z
UID:8-244252@stmumc.net
DTSTART:20260308T000000Z
DTEND:20260308T030000Z
CLASS:PUBLIC
CREATED:20260302T221830
DESCRIPTION:Join us for an evening of fun\, fellowship and friendly competi
 tion.\nBring your favorite game to share! Snacks will be provided.
LAST-MODIFIED:20260302T221830
LOCATION:Fellowship Hall
SUMMARY:Game Night
URL;VALUE=URI:https://www.stmumc.net/events/game-night/2026-03-07
ATTACH;FILENAME=Game-Night-March-2026-1.png;FMTTYPE=image/png:https://dq5pw
 pg1q8ru0.cloudfront.net/2026/03/03/04/18/29/e0edd2c9-d93d-4c99-8d2a-4f1a61
 0d01d4/Game-Night-March-2026-1.png
END:VEVENT
END:VCALENDAR
